BEGIN:VCALENDAR
VERSION:2.0
PRODID:-//Shuswap Immigrant Services Society - ECPv6.15.20//NONSGML v1.0//EN
CALSCALE:GREGORIAN
METHOD:PUBLISH
X-WR-CALNAME:Shuswap Immigrant Services Society
X-ORIGINAL-URL:https://sissociety.ca
X-WR-CALDESC:Events for Shuswap Immigrant Services Society
REFRESH-INTERVAL;VALUE=DURATION:PT1H
X-Robots-Tag:noindex
X-PUBLISHED-TTL:PT1H
BEGIN:VTIMEZONE
TZID:America/Toronto
BEGIN:DAYLIGHT
TZOFFSETFROM:-0500
TZOFFSETTO:-0400
TZNAME:EDT
DTSTART:20250309T070000
END:DAYLIGHT
BEGIN:STANDARD
TZOFFSETFROM:-0400
TZOFFSETTO:-0500
TZNAME:EST
DTSTART:20251102T060000
END:STANDARD
BEGIN:DAYLIGHT
TZOFFSETFROM:-0500
TZOFFSETTO:-0400
TZNAME:EDT
DTSTART:20260308T070000
END:DAYLIGHT
BEGIN:STANDARD
TZOFFSETFROM:-0400
TZOFFSETTO:-0500
TZNAME:EST
DTSTART:20261101T060000
END:STANDARD
BEGIN:DAYLIGHT
TZOFFSETFROM:-0500
TZOFFSETTO:-0400
TZNAME:EDT
DTSTART:20270314T070000
END:DAYLIGHT
BEGIN:STANDARD
TZOFFSETFROM:-0400
TZOFFSETTO:-0500
TZNAME:EST
DTSTART:20271107T060000
END:STANDARD
END:VTIMEZONE
BEGIN:VEVENT
DTSTART;TZID=America/Toronto:20260425T100000
DTEND;TZID=America/Toronto:20260425T120000
DTSTAMP:20260425T114038
CREATED:20260327T183406Z
LAST-MODIFIED:20260327T183406Z
UID:10000751-1777111200-1777118400@sissociety.ca
SUMMARY:English Class: Writing Bootcamp
DESCRIPTION:Join us in class to learn all about two writing types featured in CELPIP General and IELTS GT (email and persuasive essays). We will practice both speaking and writing. \nComplimentary snacks and beverages. As always\, kids are welcome. There is no childcare on Saturdays\, but we have a great playroom. Please help us clean up after class.
URL:https://sissociety.ca/event/english-class-writing-bootcamp/
LOCATION:SISS Office\, 101-371 Hudson Ave NE\, Salmon Arm\, BC\, V1E 4N3\, Canada
CATEGORIES:English Language
ORGANIZER;CN="Terri Everest":MAILTO:support@sissociety.ca
END:VEVENT
BEGIN:VEVENT
DTSTART;TZID=America/Toronto:20260425T103000
DTEND;TZID=America/Toronto:20260425T120000
DTSTAMP:20260425T114038
CREATED:20260307T185728Z
LAST-MODIFIED:20260414T213305Z
UID:10000684-1777113000-1777118400@sissociety.ca
SUMMARY:French Conversation Circle
DESCRIPTION:Parlez-vous francais? Join a facilitator for a chat in French over complimentary snacks and beverages in the SISS office. All levels are welcome!
URL:https://sissociety.ca/event/french-conversation-circle-10/
LOCATION:SISS Office\, 101-371 Hudson Ave NE\, Salmon Arm\, BC\, V1E 4N3\, Canada
CATEGORIES:Community Connections
ORGANIZER;CN="Aileen":MAILTO:service@sissociety.ca
END:VEVENT
END:VCALENDAR