BEGIN:VCALENDAR
VERSION:2.0
PRODID:-//Shuswap Immigrant Services Society - ECPv6.15.20//NONSGML v1.0//EN
CALSCALE:GREGORIAN
METHOD:PUBLISH
X-WR-CALNAME:Shuswap Immigrant Services Society
X-ORIGINAL-URL:https://sissociety.ca
X-WR-CALDESC:Events for Shuswap Immigrant Services Society
REFRESH-INTERVAL;VALUE=DURATION:PT1H
X-Robots-Tag:noindex
X-PUBLISHED-TTL:PT1H
BEGIN:VTIMEZONE
TZID:America/Toronto
BEGIN:DAYLIGHT
TZOFFSETFROM:-0500
TZOFFSETTO:-0400
TZNAME:EDT
DTSTART:20240310T070000
END:DAYLIGHT
BEGIN:STANDARD
TZOFFSETFROM:-0400
TZOFFSETTO:-0500
TZNAME:EST
DTSTART:20241103T060000
END:STANDARD
BEGIN:DAYLIGHT
TZOFFSETFROM:-0500
TZOFFSETTO:-0400
TZNAME:EDT
DTSTART:20250309T070000
END:DAYLIGHT
BEGIN:STANDARD
TZOFFSETFROM:-0400
TZOFFSETTO:-0500
TZNAME:EST
DTSTART:20251102T060000
END:STANDARD
BEGIN:DAYLIGHT
TZOFFSETFROM:-0500
TZOFFSETTO:-0400
TZNAME:EDT
DTSTART:20260308T070000
END:DAYLIGHT
BEGIN:STANDARD
TZOFFSETFROM:-0400
TZOFFSETTO:-0500
TZNAME:EST
DTSTART:20261101T060000
END:STANDARD
END:VTIMEZONE
BEGIN:VEVENT
DTSTART;TZID=America/Toronto:20250501T180000
DTEND;TZID=America/Toronto:20250501T193000
DTSTAMP:20260422T151026
CREATED:20250423T191347Z
LAST-MODIFIED:20250423T191356Z
UID:10000446-1746122400-1746127800@sissociety.ca
SUMMARY:Workforce Trends: In-Demand Jobs in our Community (Virtual)
DESCRIPTION:Are you a newcomer looking for job opportunities in our community? Do you need help preparing your resume\, cover letter\, or interview skills?  Join our virtual info session to explore in-demand jobs and get the support you need to kick-start your career!  Register now with Mitch at employment@sissociety.ca or call 250-804-2726
URL:https://sissociety.ca/event/workforce-trends-in-demand-jobs-in-our-community-virtual/
LOCATION:Virtual
CATEGORIES:Employment
ORGANIZER;CN="Mitch Ward":MAILTO:employment@sissociety.ca
END:VEVENT
END:VCALENDAR