BEGIN:VCALENDAR
VERSION:2.0
PRODID:-//Shuswap Immigrant Services Society - ECPv6.15.20//NONSGML v1.0//EN
CALSCALE:GREGORIAN
METHOD:PUBLISH
X-ORIGINAL-URL:https://sissociety.ca
X-WR-CALDESC:Events for Shuswap Immigrant Services Society
REFRESH-INTERVAL;VALUE=DURATION:PT1H
X-Robots-Tag:noindex
X-PUBLISHED-TTL:PT1H
BEGIN:VTIMEZONE
TZID:America/Toronto
BEGIN:DAYLIGHT
TZOFFSETFROM:-0500
TZOFFSETTO:-0400
TZNAME:EDT
DTSTART:20240310T070000
END:DAYLIGHT
BEGIN:STANDARD
TZOFFSETFROM:-0400
TZOFFSETTO:-0500
TZNAME:EST
DTSTART:20241103T060000
END:STANDARD
BEGIN:DAYLIGHT
TZOFFSETFROM:-0500
TZOFFSETTO:-0400
TZNAME:EDT
DTSTART:20250309T070000
END:DAYLIGHT
BEGIN:STANDARD
TZOFFSETFROM:-0400
TZOFFSETTO:-0500
TZNAME:EST
DTSTART:20251102T060000
END:STANDARD
BEGIN:DAYLIGHT
TZOFFSETFROM:-0500
TZOFFSETTO:-0400
TZNAME:EDT
DTSTART:20260308T070000
END:DAYLIGHT
BEGIN:STANDARD
TZOFFSETFROM:-0400
TZOFFSETTO:-0500
TZNAME:EST
DTSTART:20261101T060000
END:STANDARD
END:VTIMEZONE
BEGIN:VEVENT
DTSTART;TZID=America/Toronto:20250811T093000
DTEND;TZID=America/Toronto:20250811T143000
DTSTAMP:20260420T031553
CREATED:20250718T195236Z
LAST-MODIFIED:20250721T182825Z
UID:10000479-1754904600-1754922600@sissociety.ca
SUMMARY:FoodSafe Level 1 Course
DESCRIPTION:FoodSafe Level 1 Course \nAugust 11th 2025 – Saturday: 10am to 2pm\nAt Home or at the SISS Office\n\nAre you new to Canada and interested in getting your FoodSafe Certificate? We are offering access to this 5-7 hour workshop free of charge to a limited number of SISS clients. The course will be delivered through an online platform and can be done at your home. So\, if you are busy on Monday the 11th\, no worries\, we can send you the login credentials and you can enter the course at your convenience.  We also have some space available here at the office for those who would like to use our computer or would like some extra support with language. Participants who pass the exam will earn a FoodSafe Level 1 Certificate that is often required for work in the food service industry. A limited number of seats are available at no cost so please register early if you would like to attend.\n\nIf you would like to know more about the course\, more info can be found here – https://www.openschool.bc.ca/foodsafe_level1\n\nTo register\, contact Mitch: employment@sissociety.ca/250-804-2726
URL:https://sissociety.ca/event/foodsafe-level-1-course-2/
LOCATION:Virtual
CATEGORIES:Employment
END:VEVENT
END:VCALENDAR