BEGIN:VCALENDAR
VERSION:2.0
PRODID:-//Shuswap Immigrant Services Society - ECPv6.15.20//NONSGML v1.0//EN
CALSCALE:GREGORIAN
METHOD:PUBLISH
X-ORIGINAL-URL:https://sissociety.ca
X-WR-CALDESC:Events for Shuswap Immigrant Services Society
REFRESH-INTERVAL;VALUE=DURATION:PT1H
X-Robots-Tag:noindex
X-PUBLISHED-TTL:PT1H
BEGIN:VTIMEZONE
TZID:America/Toronto
BEGIN:DAYLIGHT
TZOFFSETFROM:-0500
TZOFFSETTO:-0400
TZNAME:EDT
DTSTART:20240310T070000
END:DAYLIGHT
BEGIN:STANDARD
TZOFFSETFROM:-0400
TZOFFSETTO:-0500
TZNAME:EST
DTSTART:20241103T060000
END:STANDARD
BEGIN:DAYLIGHT
TZOFFSETFROM:-0500
TZOFFSETTO:-0400
TZNAME:EDT
DTSTART:20250309T070000
END:DAYLIGHT
BEGIN:STANDARD
TZOFFSETFROM:-0400
TZOFFSETTO:-0500
TZNAME:EST
DTSTART:20251102T060000
END:STANDARD
BEGIN:DAYLIGHT
TZOFFSETFROM:-0500
TZOFFSETTO:-0400
TZNAME:EDT
DTSTART:20260308T070000
END:DAYLIGHT
BEGIN:STANDARD
TZOFFSETFROM:-0400
TZOFFSETTO:-0500
TZNAME:EST
DTSTART:20261101T060000
END:STANDARD
END:VTIMEZONE
BEGIN:VEVENT
DTSTART;TZID=America/Toronto:20250619T123000
DTEND;TZID=America/Toronto:20250619T133000
DTSTAMP:20260423T064829
CREATED:20250515T225209Z
LAST-MODIFIED:20250612T191504Z
UID:10000460-1750336200-1750339800@sissociety.ca
SUMMARY:Road Trip Essentials
DESCRIPTION:Summer is here perfect for road trips!  Explore the hidden gems of Canada with your family and make unforgettable memories. Join us for a free info session packed with essential tips and safety advice to help you plan your trip. To register\, please contact Daniela info@sissociety.ca / 250-804-2726
URL:https://sissociety.ca/event/road-trip-essentials/
LOCATION:SISS Office\, 101-371 Hudson Ave NE\, Salmon Arm\, BC\, V1E 4N3\, Canada
CATEGORIES:Info Session
ORGANIZER;CN="Daniela":MAILTO:info@sissociety.ca
END:VEVENT
BEGIN:VEVENT
DTSTART;TZID=America/Toronto:20250625T123000
DTEND;TZID=America/Toronto:20250625T133000
DTSTAMP:20260423T064829
CREATED:20250515T230016Z
LAST-MODIFIED:20250515T230020Z
UID:10000461-1750854600-1750858200@sissociety.ca
SUMMARY:Outdoor Survival Skills
DESCRIPTION:Being outdoors means discovering the hidden beauty in your own community.  Explore and connect with nature while keeping safety in mind. If you’re a seasoned outdoor enthusiast or a first timer\,  no problem! Join our free info session to learn essential safety skills for any adventure.  Registration is required. To register\, please contact Daniela info@sissociety.ca / 250-804-2726
URL:https://sissociety.ca/event/outdoor-survival-skills/
LOCATION:SISS Office\, 101-371 Hudson Ave NE\, Salmon Arm\, BC\, V1E 4N3\, Canada
CATEGORIES:Info Session
ORGANIZER;CN="Daniela":MAILTO:info@sissociety.ca
END:VEVENT
END:VCALENDAR