BEGIN:VCALENDAR
VERSION:2.0
PRODID:-//Shuswap Immigrant Services Society - ECPv6.15.20//NONSGML v1.0//EN
CALSCALE:GREGORIAN
METHOD:PUBLISH
X-WR-CALNAME:Shuswap Immigrant Services Society
X-ORIGINAL-URL:https://sissociety.ca
X-WR-CALDESC:Events for Shuswap Immigrant Services Society
REFRESH-INTERVAL;VALUE=DURATION:PT1H
X-Robots-Tag:noindex
X-PUBLISHED-TTL:PT1H
BEGIN:VTIMEZONE
TZID:America/Toronto
BEGIN:DAYLIGHT
TZOFFSETFROM:-0500
TZOFFSETTO:-0400
TZNAME:EDT
DTSTART:20240310T070000
END:DAYLIGHT
BEGIN:STANDARD
TZOFFSETFROM:-0400
TZOFFSETTO:-0500
TZNAME:EST
DTSTART:20241103T060000
END:STANDARD
BEGIN:DAYLIGHT
TZOFFSETFROM:-0500
TZOFFSETTO:-0400
TZNAME:EDT
DTSTART:20250309T070000
END:DAYLIGHT
BEGIN:STANDARD
TZOFFSETFROM:-0400
TZOFFSETTO:-0500
TZNAME:EST
DTSTART:20251102T060000
END:STANDARD
BEGIN:DAYLIGHT
TZOFFSETFROM:-0500
TZOFFSETTO:-0400
TZNAME:EDT
DTSTART:20260308T070000
END:DAYLIGHT
BEGIN:STANDARD
TZOFFSETFROM:-0400
TZOFFSETTO:-0500
TZNAME:EST
DTSTART:20261101T060000
END:STANDARD
END:VTIMEZONE
BEGIN:VEVENT
DTSTART;TZID=America/Toronto:20251008T123000
DTEND;TZID=America/Toronto:20251008T140000
DTSTAMP:20260422T150016
CREATED:20250919T190208Z
LAST-MODIFIED:20250919T190208Z
UID:10000507-1759926600-1759932000@sissociety.ca
SUMMARY:Managing Your Money
DESCRIPTION:Financial freedom is a dream many share but reaching it requires more than just hard work. It takes the right tools\, knowledge\, and strategies. Financial literacy empowers individuals to make informed decisions about saving\, investing\, budgeting\, and managing debt\, creating a pathway toward long-term stability and independence. Sign up for this info session and learn strategies that could help you attain your financial goal.
URL:https://sissociety.ca/event/managing-your-money/
LOCATION:SISS Office\, 101-371 Hudson Ave NE\, Salmon Arm\, BC\, V1E 4N3\, Canada
CATEGORIES:Info Session
ORGANIZER;CN="Aileen":MAILTO:service@sissociety.ca
END:VEVENT
BEGIN:VEVENT
DTSTART;TZID=America/Toronto:20251018T103000
DTEND;TZID=America/Toronto:20251018T120000
DTSTAMP:20260422T150016
CREATED:20250919T221921Z
LAST-MODIFIED:20250919T221921Z
UID:10000511-1760783400-1760788800@sissociety.ca
SUMMARY:French Conversation Circle
DESCRIPTION:Parlez-vous francais? Join a facilitator for a chat in French over complimentary snacks and beverages in the SISS office. All levels are welcome!
URL:https://sissociety.ca/event/french-conversation-circle-5/
LOCATION:SISS Office\, 101-371 Hudson Ave NE\, Salmon Arm\, BC\, V1E 4N3\, Canada
CATEGORIES:Info Session
ORGANIZER;CN="Aileen":MAILTO:service@sissociety.ca
END:VEVENT
BEGIN:VEVENT
DTSTART;TZID=America/Toronto:20251022T180000
DTEND;TZID=America/Toronto:20251022T193000
DTSTAMP:20260422T150016
CREATED:20250919T190515Z
LAST-MODIFIED:20250919T190515Z
UID:10000508-1761156000-1761161400@sissociety.ca
SUMMARY:Tools For Managing Life’s Challenges In A New Country
DESCRIPTION:Do you sometimes feel anxious\, alone\, or unmotivated after your decision to move to Canada?\nAre you missing your friends\, family\, and familiar routines? Do you feel overwhelmed by the challenges of adjusting to a new environment?\nWe hear you\, and we understand.\nJoin us for an information session where Laura will share practical tips\, stress-management strategies\, and coping tools to help ease the mental pressures of your big move to Canada.  Sign up today and take a step toward feeling more balanced and supported.
URL:https://sissociety.ca/event/tools-for-managing-lifes-challenges-in-a-new-country/
LOCATION:SISS Office\, 101-371 Hudson Ave NE\, Salmon Arm\, BC\, V1E 4N3\, Canada
CATEGORIES:Info Session
ORGANIZER;CN="Aileen":MAILTO:service@sissociety.ca
END:VEVENT
BEGIN:VEVENT
DTSTART;TZID=America/Toronto:20251028T180000
DTEND;TZID=America/Toronto:20251028T190000
DTSTAMP:20260422T150016
CREATED:20250919T185230Z
LAST-MODIFIED:20250919T185230Z
UID:10000506-1761674400-1761678000@sissociety.ca
SUMMARY:Redefining Success:  Career Planning with Purpose - Virtual Info Session
DESCRIPTION:Are you at a crossroads in your career or simply wondering if there’s “more” out there for you? Mitch\, SISS Employment Counselor will help you reflect on your strengths\, values and passions to discover what truly drives you! Learn how to move beyond chasing money and start designing a career that aligns with your purpose while making a living doing what you love.
URL:https://sissociety.ca/event/redefining-success-career-planning-with-purpose-virtual-info-session/
LOCATION:
CATEGORIES:Info Session
ORGANIZER;CN="Aileen":MAILTO:service@sissociety.ca
END:VEVENT
END:VCALENDAR