BEGIN:VCALENDAR
VERSION:2.0
PRODID:-//Shuswap Immigrant Services Society - ECPv6.15.20//NONSGML v1.0//EN
CALSCALE:GREGORIAN
METHOD:PUBLISH
X-WR-CALNAME:Shuswap Immigrant Services Society
X-ORIGINAL-URL:https://sissociety.ca
X-WR-CALDESC:Events for Shuswap Immigrant Services Society
REFRESH-INTERVAL;VALUE=DURATION:PT1H
X-Robots-Tag:noindex
X-PUBLISHED-TTL:PT1H
BEGIN:VTIMEZONE
TZID:America/Toronto
BEGIN:DAYLIGHT
TZOFFSETFROM:-0500
TZOFFSETTO:-0400
TZNAME:EDT
DTSTART:20230312T070000
END:DAYLIGHT
BEGIN:STANDARD
TZOFFSETFROM:-0400
TZOFFSETTO:-0500
TZNAME:EST
DTSTART:20231105T060000
END:STANDARD
BEGIN:DAYLIGHT
TZOFFSETFROM:-0500
TZOFFSETTO:-0400
TZNAME:EDT
DTSTART:20240310T070000
END:DAYLIGHT
BEGIN:STANDARD
TZOFFSETFROM:-0400
TZOFFSETTO:-0500
TZNAME:EST
DTSTART:20241103T060000
END:STANDARD
BEGIN:DAYLIGHT
TZOFFSETFROM:-0500
TZOFFSETTO:-0400
TZNAME:EDT
DTSTART:20250309T070000
END:DAYLIGHT
BEGIN:STANDARD
TZOFFSETFROM:-0400
TZOFFSETTO:-0500
TZNAME:EST
DTSTART:20251102T060000
END:STANDARD
BEGIN:DAYLIGHT
TZOFFSETFROM:-0500
TZOFFSETTO:-0400
TZNAME:EDT
DTSTART:20260308T070000
END:DAYLIGHT
BEGIN:STANDARD
TZOFFSETFROM:-0400
TZOFFSETTO:-0500
TZNAME:EST
DTSTART:20261101T060000
END:STANDARD
END:VTIMEZONE
BEGIN:VEVENT
DTSTART;VALUE=DATE:20241225
DTEND;VALUE=DATE:20250102
DTSTAMP:20260420T051938
CREATED:20241211T203108Z
LAST-MODIFIED:20241214T232442Z
UID:10000021-1735084800-1735775999@sissociety.ca
SUMMARY:Office Closed - Dec 25th 2024 - Jan 1st 2025
DESCRIPTION:Office is closed for our holiday break from December 25th\, 2024 to January 1st\, 2025. We will reopen for normal hours on January 2nd 2025
URL:https://sissociety.ca/event/office-closed/
LOCATION:SISS Office\, 101-371 Hudson Ave NE\, Salmon Arm\, BC\, V1E 4N3\, Canada
CATEGORIES:Office
END:VEVENT
END:VCALENDAR