BEGIN:VCALENDAR
VERSION:2.0
PRODID:-//Shuswap Immigrant Services Society - ECPv6.15.20//NONSGML v1.0//EN
CALSCALE:GREGORIAN
METHOD:PUBLISH
X-ORIGINAL-URL:https://sissociety.ca
X-WR-CALDESC:Events for Shuswap Immigrant Services Society
REFRESH-INTERVAL;VALUE=DURATION:PT1H
X-Robots-Tag:noindex
X-PUBLISHED-TTL:PT1H
BEGIN:VTIMEZONE
TZID:America/Toronto
BEGIN:DAYLIGHT
TZOFFSETFROM:-0500
TZOFFSETTO:-0400
TZNAME:EDT
DTSTART:20240310T070000
END:DAYLIGHT
BEGIN:STANDARD
TZOFFSETFROM:-0400
TZOFFSETTO:-0500
TZNAME:EST
DTSTART:20241103T060000
END:STANDARD
BEGIN:DAYLIGHT
TZOFFSETFROM:-0500
TZOFFSETTO:-0400
TZNAME:EDT
DTSTART:20250309T070000
END:DAYLIGHT
BEGIN:STANDARD
TZOFFSETFROM:-0400
TZOFFSETTO:-0500
TZNAME:EST
DTSTART:20251102T060000
END:STANDARD
BEGIN:DAYLIGHT
TZOFFSETFROM:-0500
TZOFFSETTO:-0400
TZNAME:EDT
DTSTART:20260308T070000
END:DAYLIGHT
BEGIN:STANDARD
TZOFFSETFROM:-0400
TZOFFSETTO:-0500
TZNAME:EST
DTSTART:20261101T060000
END:STANDARD
BEGIN:DAYLIGHT
TZOFFSETFROM:-0500
TZOFFSETTO:-0400
TZNAME:EDT
DTSTART:20270314T070000
END:DAYLIGHT
BEGIN:STANDARD
TZOFFSETFROM:-0400
TZOFFSETTO:-0500
TZNAME:EST
DTSTART:20271107T060000
END:STANDARD
END:VTIMEZONE
BEGIN:VEVENT
DTSTART;TZID=America/Toronto:20260204T103000
DTEND;TZID=America/Toronto:20260204T120000
DTSTAMP:20260421T210439
CREATED:20260217T173624Z
LAST-MODIFIED:20260217T173821Z
UID:10000659-1770201000-1770206400@sissociety.ca
SUMMARY:Arts and Craft Workshop
DESCRIPTION:Join Cathy Stubington (of Runaway Moon) for an arts and craft workshop in the SISS multipurpose room (classroom). Adults and children welcome. Childminding is available\, and there are free snacks and beverages. Please register with Chika: childminding@sissociety.ca or call 250 804 2726.
URL:https://sissociety.ca/event/arts-and-craft-workshop/2026-02-04/
LOCATION:SISS Office\, 101-371 Hudson Ave NE\, Salmon Arm\, BC\, V1E 4N3\, Canada
CATEGORIES:Community Connections
ORGANIZER;CN="Chika":MAILTO:childminding@sissociety.ca
END:VEVENT
BEGIN:VEVENT
DTSTART;TZID=America/Toronto:20260204T093000
DTEND;TZID=America/Toronto:20260204T103000
DTSTAMP:20260421T210439
CREATED:20260217T172830Z
LAST-MODIFIED:20260217T173008Z
UID:10000601-1770197400-1770201000@sissociety.ca
SUMMARY:Play and Learn
DESCRIPTION:Spend quality time with your little one while learning English. Join us for our Play and Learn program where moms\, dads\, and caregivers connect through fun and learning with a qualified instructor. Healthy snacks will be provided along with childcare. Registration required: email Chika\, childminding@sissociety.ca\, or call 250-804-2726.
URL:https://sissociety.ca/event/play-and-learn/2026-02-04/
LOCATION:SISS Office\, 101-371 Hudson Ave NE\, Salmon Arm\, BC\, V1E 4N3\, Canada
CATEGORIES:Community Connections
ORGANIZER;CN="Chika":MAILTO:childminding@sissociety.ca
END:VEVENT
BEGIN:VEVENT
DTSTART;TZID=America/Toronto:20260128T103000
DTEND;TZID=America/Toronto:20260128T120000
DTSTAMP:20260421T210439
CREATED:20251220T194948Z
LAST-MODIFIED:20251220T194948Z
UID:10000571-1769596200-1769601600@sissociety.ca
SUMMARY:Art and Craft Workshop for Newcomers
DESCRIPTION:Join Cathy Stubington (of Runaway Moon) for an arts and craft workshop in the SISS multipurpose room (classroom). Adults and children welcome. Please register with Chika: childminding@sissociety.ca
URL:https://sissociety.ca/event/art-and-craft-workshop-for-newcomers-5/
LOCATION:SISS Office\, 101-371 Hudson Ave NE\, Salmon Arm\, BC\, V1E 4N3\, Canada
CATEGORIES:Community Connections
ORGANIZER;CN="Chika":MAILTO:childminding@sissociety.ca
END:VEVENT
BEGIN:VEVENT
DTSTART;TZID=America/Toronto:20260128T093000
DTEND;TZID=America/Toronto:20260128T103000
DTSTAMP:20260421T210439
CREATED:20251220T194018Z
LAST-MODIFIED:20251220T194018Z
UID:10000567-1769592600-1769596200@sissociety.ca
SUMMARY:“Moms and Tots”- Play & Learn Program
DESCRIPTION:Quality time with your little one while learning English? Join us for our Play and Learn program where moms\, dads\, and caregivers connect through fun and learning.  Healthy snacks will be provided. Registration required:  email childminding@sissociety.ca or call 250-804-2726.
URL:https://sissociety.ca/event/moms-and-tots-play-learn-program-12/
LOCATION:SISS Office\, 101-371 Hudson Ave NE\, Salmon Arm\, BC\, V1E 4N3\, Canada
CATEGORIES:English Language
ORGANIZER;CN="Chika":MAILTO:childminding@sissociety.ca
END:VEVENT
BEGIN:VEVENT
DTSTART;TZID=America/Toronto:20260121T103000
DTEND;TZID=America/Toronto:20260121T120000
DTSTAMP:20260421T210439
CREATED:20260102T182946Z
LAST-MODIFIED:20260102T184724Z
UID:10000573-1768991400-1768996800@sissociety.ca
SUMMARY:Art and Craft Workshop for Newcomers
DESCRIPTION:Join Cathy Stubington (of Runaway Moon) for an arts and craft workshop in the SISS multipurpose room (classroom). Adults and children welcome. Please register with Chika: childminding@sissociety.ca
URL:https://sissociety.ca/event/art-and-craft-workshop-for-newcomers-6/
LOCATION:SISS Office\, 101-371 Hudson Ave NE\, Salmon Arm\, BC\, V1E 4N3\, Canada
CATEGORIES:English Language
ORGANIZER;CN="Chika":MAILTO:childminding@sissociety.ca
END:VEVENT
BEGIN:VEVENT
DTSTART;TZID=America/Toronto:20260121T093000
DTEND;TZID=America/Toronto:20260121T103000
DTSTAMP:20260421T210439
CREATED:20251220T185152Z
LAST-MODIFIED:20251220T185152Z
UID:10000566-1768987800-1768991400@sissociety.ca
SUMMARY:“Moms and Tots”- Play & Learn Program
DESCRIPTION:Quality time with your little one while learning English? Join us for our Play and Learn program where moms\, dads\, and caregivers connect through fun and learning.  Healthy snacks will be provided. Registration required:  email childminding@sissociety.ca or call 250-804-2726.
URL:https://sissociety.ca/event/moms-and-tots-play-learn-program-11/
LOCATION:SISS Office\, 101-371 Hudson Ave NE\, Salmon Arm\, BC\, V1E 4N3\, Canada
CATEGORIES:English Language
ORGANIZER;CN="Chika":MAILTO:childminding@sissociety.ca
END:VEVENT
BEGIN:VEVENT
DTSTART;TZID=America/Toronto:20260114T103000
DTEND;TZID=America/Toronto:20260114T120000
DTSTAMP:20260421T210439
CREATED:20251220T194629Z
LAST-MODIFIED:20251220T194629Z
UID:10000569-1768386600-1768392000@sissociety.ca
SUMMARY:Art and Craft Workshop for Newcomers
DESCRIPTION:Join Cathy Stubington (of Runaway Moon) for an arts and craft workshop in the SISS multipurpose room (classroom). Adults and children welcome. Please register with Chika: childminding@sissociety.ca
URL:https://sissociety.ca/event/art-and-craft-workshop-for-newcomers-3/
LOCATION:SISS Office\, 101-371 Hudson Ave NE\, Salmon Arm\, BC\, V1E 4N3\, Canada
CATEGORIES:Community Connections
ORGANIZER;CN="Chika":MAILTO:childminding@sissociety.ca
END:VEVENT
BEGIN:VEVENT
DTSTART;TZID=America/Toronto:20260114T093000
DTEND;TZID=America/Toronto:20260114T103000
DTSTAMP:20260421T210439
CREATED:20251220T185052Z
LAST-MODIFIED:20251220T193223Z
UID:10000565-1768383000-1768386600@sissociety.ca
SUMMARY:“Moms and Tots”- Play & Learn Program
DESCRIPTION:Quality time with your little one while learning English? Join us for our Play and Learn program where moms\, dads\, and caregivers connect through fun and learning.  Healthy snacks will be provided. Registration required:  email childminding@sissociety.ca or call 250-804-2726.
URL:https://sissociety.ca/event/moms-and-tots-play-learn-program-10/
LOCATION:SISS Office\, 101-371 Hudson Ave NE\, Salmon Arm\, BC\, V1E 4N3\, Canada
CATEGORIES:English Language
ORGANIZER;CN="Chika":MAILTO:childminding@sissociety.ca
END:VEVENT
BEGIN:VEVENT
DTSTART;TZID=America/Toronto:20260107T103000
DTEND;TZID=America/Toronto:20260107T120000
DTSTAMP:20260421T210439
CREATED:20251220T194531Z
LAST-MODIFIED:20251220T194531Z
UID:10000568-1767781800-1767787200@sissociety.ca
SUMMARY:Art and Craft Workshop for Newcomers
DESCRIPTION:Join Cathy Stubington (of Runaway Moon) for an arts and craft workshop in the SISS multipurpose room (classroom). Adults and children welcome. Please register with Chika: childminding@sissociety.ca
URL:https://sissociety.ca/event/art-and-craft-workshop-for-newcomers-2/
LOCATION:SISS Office\, 101-371 Hudson Ave NE\, Salmon Arm\, BC\, V1E 4N3\, Canada
CATEGORIES:Community Connections
ORGANIZER;CN="Chika":MAILTO:childminding@sissociety.ca
END:VEVENT
BEGIN:VEVENT
DTSTART;TZID=America/Toronto:20260107T093000
DTEND;TZID=America/Toronto:20260107T103000
DTSTAMP:20260421T210439
CREATED:20251220T184955Z
LAST-MODIFIED:20251220T185552Z
UID:10000564-1767778200-1767781800@sissociety.ca
SUMMARY:“Moms and Tots”- Play & Learn Program
DESCRIPTION:Quality time with your little one while learning English? Join us for our Play and Learn program where moms\, dads\, and caregivers connect through fun and learning.  Healthy snacks will be provided. Registration required:  email childminding@sissociety.ca or call 250-804-2726.
URL:https://sissociety.ca/event/moms-and-tots-play-learn-program-9/
LOCATION:SISS Office\, 101-371 Hudson Ave NE\, Salmon Arm\, BC\, V1E 4N3\, Canada
CATEGORIES:English Language
ORGANIZER;CN="Chika":MAILTO:childminding@sissociety.ca
END:VEVENT
BEGIN:VEVENT
DTSTART;TZID=America/Toronto:20251210T103000
DTEND;TZID=America/Toronto:20251210T120000
DTSTAMP:20260421T210439
CREATED:20251204T200346Z
LAST-MODIFIED:20251204T200400Z
UID:10000558-1765362600-1765368000@sissociety.ca
SUMMARY:Art and Craft Workshop for Newcomers
DESCRIPTION:Join Cathy Stubington (of Runaway Moon) for an arts and craft workshop in the SISS multipurpose room (classroom). Adults and children welcome. Please register with Chika: childminding@sissociety.ca
URL:https://sissociety.ca/event/art-and-craft-workshop-for-newcomers/
LOCATION:SISS Office\, 101-371 Hudson Ave NE\, Salmon Arm\, BC\, V1E 4N3\, Canada
CATEGORIES:Community Connections
ORGANIZER;CN="Chika":MAILTO:childminding@sissociety.ca
END:VEVENT
BEGIN:VEVENT
DTSTART;TZID=America/Toronto:20251210T093000
DTEND;TZID=America/Toronto:20251210T103000
DTSTAMP:20260421T210439
CREATED:20251029T220941Z
LAST-MODIFIED:20251128T220900Z
UID:10000552-1765359000-1765362600@sissociety.ca
SUMMARY:“Moms and Tots”- Play & Learn Program
DESCRIPTION:Quality time with your little one while learning English? Join us for our Play and Learn program where moms\, dads\, and caregivers connect through fun and learning.  Healthy snacks will be provided. Registration required:  email childminding@sissociety.ca or call 250-804-2726.
URL:https://sissociety.ca/event/moms-and-tots-play-learn-program-8/2025-12-10/
LOCATION:SISS Office\, 101-371 Hudson Ave NE\, Salmon Arm\, BC\, V1E 4N3\, Canada
CATEGORIES:English Language
ORGANIZER;CN="Chika":MAILTO:childminding@sissociety.ca
END:VEVENT
BEGIN:VEVENT
DTSTART;TZID=America/Toronto:20251203T093000
DTEND;TZID=America/Toronto:20251203T103000
DTSTAMP:20260421T210439
CREATED:20251029T220941Z
LAST-MODIFIED:20251128T220900Z
UID:10000551-1764754200-1764757800@sissociety.ca
SUMMARY:“Moms and Tots”- Play & Learn Program
DESCRIPTION:Quality time with your little one while learning English? Join us for our Play and Learn program where moms\, dads\, and caregivers connect through fun and learning.  Healthy snacks will be provided. Registration required:  email childminding@sissociety.ca or call 250-804-2726.
URL:https://sissociety.ca/event/moms-and-tots-play-learn-program-8/2025-12-03/
LOCATION:SISS Office\, 101-371 Hudson Ave NE\, Salmon Arm\, BC\, V1E 4N3\, Canada
CATEGORIES:English Language
ORGANIZER;CN="Chika":MAILTO:childminding@sissociety.ca
END:VEVENT
BEGIN:VEVENT
DTSTART;TZID=America/Toronto:20251126T093000
DTEND;TZID=America/Toronto:20251126T103000
DTSTAMP:20260421T210439
CREATED:20251029T220941Z
LAST-MODIFIED:20251128T220900Z
UID:10000535-1764149400-1764153000@sissociety.ca
SUMMARY:“Moms and Tots”- Play & Learn Program
DESCRIPTION:Quality time with your little one while learning English? Join us for our Play and Learn program where moms\, dads\, and caregivers connect through fun and learning.  Healthy snacks will be provided. Registration required:  email childminding@sissociety.ca or call 250-804-2726.
URL:https://sissociety.ca/event/moms-and-tots-play-learn-program-8/2025-11-26/
LOCATION:SISS Office\, 101-371 Hudson Ave NE\, Salmon Arm\, BC\, V1E 4N3\, Canada
CATEGORIES:English Language
ORGANIZER;CN="Chika":MAILTO:childminding@sissociety.ca
END:VEVENT
BEGIN:VEVENT
DTSTART;TZID=America/Toronto:20251119T093000
DTEND;TZID=America/Toronto:20251119T103000
DTSTAMP:20260421T210439
CREATED:20251029T220329Z
LAST-MODIFIED:20251029T232945Z
UID:10000534-1763544600-1763548200@sissociety.ca
SUMMARY:“Moms and Tots”- Play & Learn Program
DESCRIPTION:Quality time with your little one while learning English? Join us for our Play and Learn program where moms\, dads\, and caregivers connect through fun and learning.  Healthy snacks will be provided. Registration required:  email childminding@sissociety.ca or call 250-804-2726
URL:https://sissociety.ca/event/moms-and-tots-play-learn-program-7/
LOCATION:SISS Office\, 101-371 Hudson Ave NE\, Salmon Arm\, BC\, V1E 4N3\, Canada
CATEGORIES:English Language
ORGANIZER;CN="Chika":MAILTO:childminding@sissociety.ca
END:VEVENT
BEGIN:VEVENT
DTSTART;TZID=America/Toronto:20251112T093000
DTEND;TZID=America/Toronto:20251112T103000
DTSTAMP:20260421T210439
CREATED:20251029T220101Z
LAST-MODIFIED:20251029T232926Z
UID:10000533-1762939800-1762943400@sissociety.ca
SUMMARY:“Moms and Tots”- Play & Learn Program
DESCRIPTION:Quality time with your little one while learning English? Join us for our Play and Learn program where moms\, dads\, and caregivers connect through fun and learning.  Healthy snacks will be provided. Registration required:  email childminding@sissociety.ca or call 250-804-2726
URL:https://sissociety.ca/event/moms-and-tots-play-learn-program-6/
LOCATION:SISS Office\, 101-371 Hudson Ave NE\, Salmon Arm\, BC\, V1E 4N3\, Canada
CATEGORIES:English Language
ORGANIZER;CN="Chika":MAILTO:childminding@sissociety.ca
END:VEVENT
BEGIN:VEVENT
DTSTART;TZID=America/Toronto:20251105T093000
DTEND;TZID=America/Toronto:20251105T103000
DTSTAMP:20260421T210439
CREATED:20251029T215615Z
LAST-MODIFIED:20251029T232906Z
UID:10000532-1762335000-1762338600@sissociety.ca
SUMMARY:“Moms and Tots”- Play & Learn Program
DESCRIPTION:Quality time with your little one while learning English? Join us for our Play and Learn program where moms\, dads\, and caregivers connect through fun and learning.  Healthy snacks will be provided. Registration required:  email childminding@sissociety.ca or call 250-804-2726
URL:https://sissociety.ca/event/moms-and-tots-play-learn-program-5/
LOCATION:SISS Office\, 101-371 Hudson Ave NE\, Salmon Arm\, BC\, V1E 4N3\, Canada
CATEGORIES:English Language
ORGANIZER;CN="Chika":MAILTO:childminding@sissociety.ca
END:VEVENT
BEGIN:VEVENT
DTSTART;TZID=America/Toronto:20251015T093000
DTEND;TZID=America/Toronto:20251015T103000
DTSTAMP:20260421T210439
CREATED:20251003T224808Z
LAST-MODIFIED:20251003T224808Z
UID:10000518-1760520600-1760524200@sissociety.ca
SUMMARY:“Moms and Tots”- Play & Learn Program
DESCRIPTION:Come join us in our program just for moms and their little ones!– Connect with other new moms– Enjoy play-based learning activities– Give your tots the chance to make their very first friends \n💖 Come play\, learn\, laugh\, and grow together!
URL:https://sissociety.ca/event/moms-and-tots-play-learn-program-2/
LOCATION:SISS Office\, 101-371 Hudson Ave NE\, Salmon Arm\, BC\, V1E 4N3\, Canada
ORGANIZER;CN="Chika":MAILTO:childminding@sissociety.ca
END:VEVENT
BEGIN:VEVENT
DTSTART;TZID=America/Toronto:20251008T093000
DTEND;TZID=America/Toronto:20251008T103000
DTSTAMP:20260421T210439
CREATED:20251003T224543Z
LAST-MODIFIED:20251003T224543Z
UID:10000517-1759915800-1759919400@sissociety.ca
SUMMARY:"Moms and Tots"- Play & Learn Program
DESCRIPTION:We’re excited to welcome you to our new program designed just for moms and their little ones!– Connect with other new moms– Enjoy play-based learning activities– Give your tots the chance to make their very first friends \n💖 Come play\, learn\, laugh\, and grow together!
URL:https://sissociety.ca/event/moms-and-tots-play-learn-program/
LOCATION:SISS Office\, 101-371 Hudson Ave NE\, Salmon Arm\, BC\, V1E 4N3\, Canada
ORGANIZER;CN="Chika":MAILTO:childminding@sissociety.ca
END:VEVENT
END:VCALENDAR