BEGIN:VCALENDAR
VERSION:2.0
PRODID:-//Shuswap Immigrant Services Society - ECPv6.15.20//NONSGML v1.0//EN
CALSCALE:GREGORIAN
METHOD:PUBLISH
X-ORIGINAL-URL:https://sissociety.ca
X-WR-CALDESC:Events for Shuswap Immigrant Services Society
REFRESH-INTERVAL;VALUE=DURATION:PT1H
X-Robots-Tag:noindex
X-PUBLISHED-TTL:PT1H
BEGIN:VTIMEZONE
TZID:America/Toronto
BEGIN:DAYLIGHT
TZOFFSETFROM:-0500
TZOFFSETTO:-0400
TZNAME:EDT
DTSTART:20240310T070000
END:DAYLIGHT
BEGIN:STANDARD
TZOFFSETFROM:-0400
TZOFFSETTO:-0500
TZNAME:EST
DTSTART:20241103T060000
END:STANDARD
BEGIN:DAYLIGHT
TZOFFSETFROM:-0500
TZOFFSETTO:-0400
TZNAME:EDT
DTSTART:20250309T070000
END:DAYLIGHT
BEGIN:STANDARD
TZOFFSETFROM:-0400
TZOFFSETTO:-0500
TZNAME:EST
DTSTART:20251102T060000
END:STANDARD
BEGIN:DAYLIGHT
TZOFFSETFROM:-0500
TZOFFSETTO:-0400
TZNAME:EDT
DTSTART:20260308T070000
END:DAYLIGHT
BEGIN:STANDARD
TZOFFSETFROM:-0400
TZOFFSETTO:-0500
TZNAME:EST
DTSTART:20261101T060000
END:STANDARD
BEGIN:DAYLIGHT
TZOFFSETFROM:-0500
TZOFFSETTO:-0400
TZNAME:EDT
DTSTART:20270314T070000
END:DAYLIGHT
BEGIN:STANDARD
TZOFFSETFROM:-0400
TZOFFSETTO:-0500
TZNAME:EST
DTSTART:20271107T060000
END:STANDARD
END:VTIMEZONE
BEGIN:VEVENT
DTSTART;TZID=America/Toronto:20260221T130000
DTEND;TZID=America/Toronto:20260221T150000
DTSTAMP:20260424T113933
CREATED:20260107T205438Z
LAST-MODIFIED:20260107T205438Z
UID:10000578-1771678800-1771686000@sissociety.ca
SUMMARY:Open Gym at the Salmon Arm Recreation Centre
DESCRIPTION:Looking for a fun way to spend the afternoon? Join us at the Salmon Arm Recreation Centre Gym for sports\, snacks\, and great company! We’ll have opportunities to play indoor soccer and other other games\, so come ready to move and have fun for the afternoon. Everyone is welcome bring your friends and enjoy an active\, social afternoon! \nPlease register with Mitch at – employment@sissociety.ca or 250-804-2726.
URL:https://sissociety.ca/event/open-gym-at-the-salmon-arm-recreation-centre/
LOCATION:Salmon Arm Recreation Centre\, 2550 10th Avenue NE\, Salmon Arm\, BC\, V1E 2S4\, Canada
CATEGORIES:Community Connections
ORGANIZER;CN="Mitch Ward":MAILTO:employment@sissociety.ca
END:VEVENT
BEGIN:VEVENT
DTSTART;TZID=America/Toronto:20260205T160000
DTEND;TZID=America/Toronto:20260205T180000
DTSTAMP:20260424T113933
CREATED:20260107T202533Z
LAST-MODIFIED:20260107T202533Z
UID:10000577-1770307200-1770314400@sissociety.ca
SUMMARY:Job Seekers Social
DESCRIPTION:Looking for work? Join us for an evening of connection\, learning\, and sharing experiences with others on the same journey. Enjoy dinner together while gaining practical tools to boost your job search. \n\nDuring the event\, we’ll provide an overview of local job opportunities\, practice job interviews\, and share resume tips to help you stand out. Plus\, our special guest from Okanagan College will introduce micro-credentials and short certificate programs\, along with available funding options to support your career growth.
URL:https://sissociety.ca/event/job-seekers-social/
LOCATION:SISS Office\, 101-371 Hudson Ave NE\, Salmon Arm\, BC\, V1E 4N3\, Canada
CATEGORIES:Employment
ORGANIZER;CN="Mitch Ward":MAILTO:employment@sissociety.ca
END:VEVENT
BEGIN:VEVENT
DTSTART;TZID=America/Toronto:20250809T100000
DTEND;TZID=America/Toronto:20250809T130000
DTSTAMP:20260424T113933
CREATED:20250710T160452Z
LAST-MODIFIED:20250710T160452Z
UID:10000478-1754733600-1754744400@sissociety.ca
SUMMARY:Beach Day
DESCRIPTION:Come soak up the sun with Shuswap Immigrant Services at our Beach Day at Canoe Beach! Enjoy games\, swimming\, and great company—plus a delicious lunch on us. A perfect chance to connect\, unwind\, and celebrate community by the water. All are welcome and transportation from downtown Salmon Arm can be arranged! \nEmail employment@sissociety.ca if you would like to join us.
URL:https://sissociety.ca/event/beach-day-2/
LOCATION:Canoe Beach\, Salmon Arm\, 3799 Canoe Beach Dr NE\, Salmon Arm\, BC\, V0E 1K0\, Canada
CATEGORIES:Community Connections
ORGANIZER;CN="Mitch Ward":MAILTO:employment@sissociety.ca
END:VEVENT
BEGIN:VEVENT
DTSTART;TZID=America/Toronto:20250501T180000
DTEND;TZID=America/Toronto:20250501T193000
DTSTAMP:20260424T113933
CREATED:20250423T191347Z
LAST-MODIFIED:20250423T191356Z
UID:10000446-1746122400-1746127800@sissociety.ca
SUMMARY:Workforce Trends: In-Demand Jobs in our Community (Virtual)
DESCRIPTION:Are you a newcomer looking for job opportunities in our community? Do you need help preparing your resume\, cover letter\, or interview skills?  Join our virtual info session to explore in-demand jobs and get the support you need to kick-start your career!  Register now with Mitch at employment@sissociety.ca or call 250-804-2726
URL:https://sissociety.ca/event/workforce-trends-in-demand-jobs-in-our-community-virtual/
LOCATION:Virtual
CATEGORIES:Employment
ORGANIZER;CN="Mitch Ward":MAILTO:employment@sissociety.ca
END:VEVENT
BEGIN:VEVENT
DTSTART;TZID=America/Toronto:20250110T180000
DTEND;TZID=America/Toronto:20250110T190000
DTSTAMP:20260424T113933
CREATED:20241212T225503Z
LAST-MODIFIED:20241213T224000Z
UID:10000395-1736532000-1736535600@sissociety.ca
SUMMARY:Winter Preparedness Info-Session (Online)
DESCRIPTION:Stay safe this winter!  Join us for a virtual info session where you will learn how to stay alert\, emergency response and a lot more.  This is a great opportunity to equip yourself and your family with the knowledge and tools to stay secure through the winter season.\n\nContact employment@sissociety.ca if you have any questions or if you would like to attend and would like the Zoom link.\n\n\n\n\n 
URL:https://sissociety.ca/event/winter-preparedness-info-session-online/
LOCATION:Virtual
CATEGORIES:Settlement
ORGANIZER;CN="Mitch Ward":MAILTO:employment@sissociety.ca
END:VEVENT
END:VCALENDAR