BEGIN:VCALENDAR
VERSION:2.0
PRODID:-//Shuswap Immigrant Services Society - ECPv6.15.20//NONSGML v1.0//EN
CALSCALE:GREGORIAN
METHOD:PUBLISH
X-ORIGINAL-URL:https://sissociety.ca
X-WR-CALDESC:Events for Shuswap Immigrant Services Society
REFRESH-INTERVAL;VALUE=DURATION:PT1H
X-Robots-Tag:noindex
X-PUBLISHED-TTL:PT1H
BEGIN:VTIMEZONE
TZID:America/Toronto
BEGIN:DAYLIGHT
TZOFFSETFROM:-0500
TZOFFSETTO:-0400
TZNAME:EDT
DTSTART:20230312T070000
END:DAYLIGHT
BEGIN:STANDARD
TZOFFSETFROM:-0400
TZOFFSETTO:-0500
TZNAME:EST
DTSTART:20231105T060000
END:STANDARD
BEGIN:DAYLIGHT
TZOFFSETFROM:-0500
TZOFFSETTO:-0400
TZNAME:EDT
DTSTART:20240310T070000
END:DAYLIGHT
BEGIN:STANDARD
TZOFFSETFROM:-0400
TZOFFSETTO:-0500
TZNAME:EST
DTSTART:20241103T060000
END:STANDARD
BEGIN:DAYLIGHT
TZOFFSETFROM:-0500
TZOFFSETTO:-0400
TZNAME:EDT
DTSTART:20250309T070000
END:DAYLIGHT
BEGIN:STANDARD
TZOFFSETFROM:-0400
TZOFFSETTO:-0500
TZNAME:EST
DTSTART:20251102T060000
END:STANDARD
BEGIN:DAYLIGHT
TZOFFSETFROM:-0500
TZOFFSETTO:-0400
TZNAME:EDT
DTSTART:20260308T070000
END:DAYLIGHT
BEGIN:STANDARD
TZOFFSETFROM:-0400
TZOFFSETTO:-0500
TZNAME:EST
DTSTART:20261101T060000
END:STANDARD
END:VTIMEZONE
BEGIN:VEVENT
DTSTART;TZID=America/Toronto:20250705T100000
DTEND;TZID=America/Toronto:20250705T120000
DTSTAMP:20260424T014258
CREATED:20250621T163257Z
LAST-MODIFIED:20250621T163257Z
UID:10000470-1751709600-1751716800@sissociety.ca
SUMMARY:English session/Fletcher Park picnic
DESCRIPTION:Meet 10:00 am at the SISS classroom to learn about services at ServiceBC\, city hall\, and the courthouse. After our one-hour lesson\, we’ll walk two blocks to city hall/courthouse and have a picnic outside at nearby Fletcher Park\, where kids can play. Bring some food to share if you like. Free snacks and beverages.
URL:https://sissociety.ca/event/english-session-fletcher-park-picnic/
LOCATION:SISS Office\, 101-371 Hudson Ave NE\, Salmon Arm\, BC\, V1E 4N3\, Canada
CATEGORIES:English Language
ORGANIZER;CN="Terri Everest":MAILTO:support@sissociety.ca
END:VEVENT
BEGIN:VEVENT
DTSTART;TZID=America/Toronto:20250621T100000
DTEND;TZID=America/Toronto:20250621T120000
DTSTAMP:20260424T014258
CREATED:20250619T164005Z
LAST-MODIFIED:20250619T164005Z
UID:10000467-1750500000-1750507200@sissociety.ca
SUMMARY:English Class/Games Day
DESCRIPTION:Join Terri and a volunteer for a class from 10 -12 noon. We’re going to mix\, mingle and play some English games. Come learn while laughing! Complimentary snacks and beverages available. \n 
URL:https://sissociety.ca/event/english-class-games-day/
LOCATION:SISS Office\, 101-371 Hudson Ave NE\, Salmon Arm\, BC\, V1E 4N3\, Canada
CATEGORIES:English Language
ORGANIZER;CN="Terri Everest":MAILTO:support@sissociety.ca
END:VEVENT
BEGIN:VEVENT
DTSTART;TZID=America/Toronto:20250619T100000
DTEND;TZID=America/Toronto:20250619T120000
DTSTAMP:20260424T014258
CREATED:20250515T231311Z
LAST-MODIFIED:20250515T231311Z
UID:10000464-1750327200-1750334400@sissociety.ca
SUMMARY:English session/new art gallery/Anvil
DESCRIPTION:Join Terri and a volunteer for a lesson on descriptive adjectives from 10-11 in the classroom. After that\, we’ll view an exhibit (Master Women’s Group) at a new art gallery just down the street. Finally\, we’ll enjoy a beverage and chat at Anvil Coffee around the corner.
URL:https://sissociety.ca/event/english-session-new-art-gallery-anvil/
LOCATION:SISS Office\, 101-371 Hudson Ave NE\, Salmon Arm\, BC\, V1E 4N3\, Canada
CATEGORIES:English Language
ORGANIZER;CN="Terri Everest":MAILTO:support@sissociety.ca
END:VEVENT
BEGIN:VEVENT
DTSTART;TZID=America/Toronto:20250612T100000
DTEND;TZID=America/Toronto:20250612T120000
DTSTAMP:20260424T014258
CREATED:20250515T231158Z
LAST-MODIFIED:20250515T231158Z
UID:10000463-1749722400-1749729600@sissociety.ca
SUMMARY:English session/Pharmasave
DESCRIPTION:Join Terri and a volunteer 10-11 am in the classroom. We’ll have a language lesson about getting prescriptions and over-the-counter (OTC) medicines from the pharmacy. After that\, we’ll walk 2 minute to Pharmasave (270 Hudson Avenue). Pharmacy staff will give us an overview of their services\, explaining how to get prescriptions\, walk us through the OTC aisles\, and briefly discuss Fair Pharmacare and extended health plans. Snacks and beverages available during class.
URL:https://sissociety.ca/event/english-session-pharmasave/
LOCATION:SISS Office\, 101-371 Hudson Ave NE\, Salmon Arm\, BC\, V1E 4N3\, Canada
CATEGORIES:English Language
ORGANIZER;CN="Terri Everest":MAILTO:support@sissociety.ca
END:VEVENT
BEGIN:VEVENT
DTSTART;TZID=America/Toronto:20250607T100000
DTEND;TZID=America/Toronto:20250607T120000
DTSTAMP:20260424T014258
CREATED:20250515T230701Z
LAST-MODIFIED:20250515T230701Z
UID:10000462-1749290400-1749297600@sissociety.ca
SUMMARY:English session/McGuire Lake
DESCRIPTION:Meet at the SISS classroom to practice English\, meet others\, and have fun! Free snacks and beverages. Drop in anytime.
URL:https://sissociety.ca/event/english-session-mcguire-lake/
LOCATION:SISS Office\, 101-371 Hudson Ave NE\, Salmon Arm\, BC\, V1E 4N3\, Canada
CATEGORIES:English Language
ORGANIZER;CN="Terri Everest":MAILTO:support@sissociety.ca
END:VEVENT
BEGIN:VEVENT
DTSTART;TZID=America/Toronto:20250529T100000
DTEND;TZID=America/Toronto:20250529T120000
DTSTAMP:20260424T014258
CREATED:20250423T201615Z
LAST-MODIFIED:20250425T165937Z
UID:10000456-1748512800-1748520000@sissociety.ca
SUMMARY:English session/Games Day
DESCRIPTION:Join Terri and a volunteer for a class from 10 -12 noon. We’re going to mix\, mingle and play some English games. Come learn while laughing! Complimentary snacks and beverages available.
URL:https://sissociety.ca/event/english-session-6/
LOCATION:SISS Office\, 101-371 Hudson Ave NE\, Salmon Arm\, BC\, V1E 4N3\, Canada
CATEGORIES:English Language
ORGANIZER;CN="Terri Everest":MAILTO:support@sissociety.ca
END:VEVENT
BEGIN:VEVENT
DTSTART;TZID=America/Toronto:20250524T100000
DTEND;TZID=America/Toronto:20250524T120000
DTSTAMP:20260424T014258
CREATED:20250423T201312Z
LAST-MODIFIED:20250425T165423Z
UID:10000455-1748080800-1748088000@sissociety.ca
SUMMARY:English session/Art Gallery/Pink Cherry
DESCRIPTION:Join Terri and a volunteer 10-11 am in the classroom. We’ll have a one-hour language lesson\, then walk 5 minutes to the Salmon Arm Arts Centre/Gallery to view their Fierce Female Artists exhibition. Finally\, enjoy a complimentary ice cream\, gelato\, or beverage at Pink Cherry.
URL:https://sissociety.ca/event/english-session-atelier-gallery-anvil/
LOCATION:SISS Office\, 101-371 Hudson Ave NE\, Salmon Arm\, BC\, V1E 4N3\, Canada
CATEGORIES:English Language
ORGANIZER;CN="Terri Everest":MAILTO:support@sissociety.ca
END:VEVENT
BEGIN:VEVENT
DTSTART;TZID=America/Toronto:20250515T100000
DTEND;TZID=America/Toronto:20250515T120000
DTSTAMP:20260424T014258
CREATED:20250423T200011Z
LAST-MODIFIED:20250423T200011Z
UID:10000451-1747303200-1747310400@sissociety.ca
SUMMARY:English session/Askews
DESCRIPTION:Join Terri and a volunteer 10-11 a.m. in the classroom. We’ll have a language lesson on food\, nutrition\, and how to read labels\, ingredients lists\, and signs. After that\, we’ll walk two blocks to a local grocery story\, downtown Askews. The manager will give us a tour of the store\, including a sneak peek in the back and complimentary snacks. Come enjoy a fun\, functional\, hands-on\, authentic experience!
URL:https://sissociety.ca/event/english-session-askews/
LOCATION:SISS Office\, 101-371 Hudson Ave NE\, Salmon Arm\, BC\, V1E 4N3\, Canada
CATEGORIES:English Language
ORGANIZER;CN="Terri Everest":MAILTO:support@sissociety.ca
END:VEVENT
BEGIN:VEVENT
DTSTART;TZID=America/Toronto:20250510T100000
DTEND;TZID=America/Toronto:20250510T120000
DTSTAMP:20260424T014258
CREATED:20250423T195901Z
LAST-MODIFIED:20250423T195904Z
UID:10000450-1746871200-1746878400@sissociety.ca
SUMMARY:English session/Test tips
DESCRIPTION:Are you stressed about taking tests? CELPIP? IELTS? Driving knowledge test? Another test? Join Terri and Pamela (a retired teacher) for a practical lesson on how to prepare. We’ll brainstorm methods for all four skills (reading\, writing\, speaking\, listening) and also consider practical tips for what to do before\, during\, and after your test. Join us in the SISS classroom 10-12. Pre-registration is recommended but not required. Free snacks\, coffee\, and tea available.
URL:https://sissociety.ca/event/english-session-test-tips/
LOCATION:SISS Office\, 101-371 Hudson Ave NE\, Salmon Arm\, BC\, V1E 4N3\, Canada
CATEGORIES:English Language
ORGANIZER;CN="Terri Everest":MAILTO:support@sissociety.ca
END:VEVENT
BEGIN:VEVENT
DTSTART;TZID=America/Toronto:20250426T100000
DTEND;TZID=America/Toronto:20250426T120000
DTSTAMP:20260424T014258
CREATED:20250404T173106Z
LAST-MODIFIED:20250404T173110Z
UID:10000436-1745661600-1745668800@sissociety.ca
SUMMARY:English session/fire dept
DESCRIPTION:Join Terri and a volunteer 10 a.m. at the SISS classroom (next to the main office). We’ll have a language lesson and then walk two blocks to the fire department (141 Ross St. NE). Staff will talk about fire safety in the home\, offer free smoke detector instalment\, and give us a tour. Come sit in a big red fire truck – photo opportunity! Free snacks and beverages. You don’t need to register – just drop in! Note: the tour is very interesting\, so it may last until 12:30\, but you can leave earlier if you need to.
URL:https://sissociety.ca/event/english-session-fire-dept/
LOCATION:SISS Office\, 101-371 Hudson Ave NE\, Salmon Arm\, BC\, V1E 4N3\, Canada
CATEGORIES:English Language
ORGANIZER;CN="Terri Everest":MAILTO:support@sissociety.ca
END:VEVENT
BEGIN:VEVENT
DTSTART;TZID=America/Toronto:20250424T193000
DTEND;TZID=America/Toronto:20250424T213000
DTSTAMP:20260424T014258
CREATED:20250404T190155Z
LAST-MODIFIED:20250404T190155Z
UID:10000438-1745523000-1745530200@sissociety.ca
SUMMARY:Shuswap Theatre play
DESCRIPTION:Come watch a play (final rehearsal)\, The Virgin Trial\, at Shuswap Theatre (41 Hudson Street NW \, Salmon Arm) with Terri\, volunteer Mary\, and others. Please arrive by 7:15 pm at the latest (The inside theatre doors are closed at 7:30 pm sharp). There is free parking on the street and in a parking lot just below the theatre. SISS clients\, co-workers\, and families are welcome\, but content is NOT suitable for children. Please pre-register with Terri.
URL:https://sissociety.ca/event/shuswap-theatre-play/
LOCATION:Shuswap Theatre\, 41 Hudson Ave NW\, Salmon Arm\, BC\, V1E 4M2\, Canada
CATEGORIES:English Language
ORGANIZER;CN="Terri Everest":MAILTO:support@sissociety.ca
END:VEVENT
BEGIN:VEVENT
DTSTART;TZID=America/Toronto:20250422T110000
DTEND;TZID=America/Toronto:20250422T150000
DTSTAMP:20260424T014258
CREATED:20250404T184702Z
LAST-MODIFIED:20250404T184707Z
UID:10000437-1745319600-1745334000@sissociety.ca
SUMMARY:Sicamous meet-up/Laughter yoga & study session
DESCRIPTION:Come join Terri and others for Laughter Yoga at Sicamous Library (446 Main St.\, #2) from 11 am -12 noon. Iva  is a certified laughter yoga coach who knows a lot about the newcomer experience (and speaks five languages!). Come laugh your cares away and learn about the therapeutic value of laughing! No yoga mat needed. Terri will also be at the library from 1-3 pm if you want to chat more\, study\, or have any other questions.
URL:https://sissociety.ca/event/sicamous-meet-up-laughter-yoga-study-session/
LOCATION:Sicamous Library\, 2-446 Main St\, Sicamous\, British Columbia\, V0E2V0\, Canada
CATEGORIES:English Language
ORGANIZER;CN="Terri Everest":MAILTO:support@sissociety.ca
END:VEVENT
BEGIN:VEVENT
DTSTART;TZID=America/Toronto:20250417T100000
DTEND;TZID=America/Toronto:20250417T120000
DTSTAMP:20260424T014258
CREATED:20250401T193830Z
LAST-MODIFIED:20250401T193835Z
UID:10000434-1744884000-1744891200@sissociety.ca
SUMMARY:English session/Shuswap Resource Centre
DESCRIPTION:Join Terri and a volunteer at 10:00 am for a language lesson\, starting in the SISS classroom. We’ll learn all about free services at the Shuswap Family Resource Centre. At 11:00 a.m.\, we’ll take a 7-minute walk to the Centre (681 Marine Park Drive) and enjoy a tour by staff there. Free snacks and beverages available. No need to register – just drop in! Note: the tour may last until 12:30\, but you can leave earlier if needed.
URL:https://sissociety.ca/event/english-session-shuswap-resource-centre/
LOCATION:SISS Office\, 101-371 Hudson Ave NE\, Salmon Arm\, BC\, V1E 4N3\, Canada
CATEGORIES:English Language
ORGANIZER;CN="Terri Everest":MAILTO:support@sissociety.ca
END:VEVENT
BEGIN:VEVENT
DTSTART;TZID=America/Toronto:20250412T100000
DTEND;TZID=America/Toronto:20250412T120000
DTSTAMP:20260424T014258
CREATED:20250401T194059Z
LAST-MODIFIED:20250408T215446Z
UID:10000435-1744452000-1744459200@sissociety.ca
SUMMARY:English session
DESCRIPTION:Join Terri and a volunteer at 10:00 am in the SISS classroom for a fun\, informative lesson! We will talk about the importance of exercise and self-regulation plus learn some vocabulary terms for yoga (including phrasal verbs). You have a choice at 11:00: a) stay in class and enjoy a chat and coffee/tea/snacks with Terri OR b)  go to a free yoga session at Sweet Freedom yoga (transportation provided if needed and yoga mat provided\, but please pre-register with Arpita: events@sissociety.ca).
URL:https://sissociety.ca/event/english-session-5/
LOCATION:SISS Office\, 101-371 Hudson Ave NE\, Salmon Arm\, BC\, V1E 4N3\, Canada
CATEGORIES:English Language
ORGANIZER;CN="Terri Everest":MAILTO:support@sissociety.ca
END:VEVENT
BEGIN:VEVENT
DTSTART;TZID=America/Toronto:20250408T113000
DTEND;TZID=America/Toronto:20250408T150000
DTSTAMP:20260424T014258
CREATED:20250401T181855Z
LAST-MODIFIED:20250401T181909Z
UID:10000432-1744111800-1744124400@sissociety.ca
SUMMARY:Enderby meet-up/Enderbeans & library
DESCRIPTION:Come join Terri and others at Enderbeans Cafe from 11:30 am – 1 pm for a chat over complimentary coffee or tea (908 Belvidere St.\, Enderby). Terri will also be available from 1-3 pm for study and other questions at Enderby library (514 Cliff Avenue\, Enderby).
URL:https://sissociety.ca/event/enderby-meet-up-enderbeans-library/
LOCATION:Enderbeans Cafe\, 908 Belvedere St\, Enderby\, British Columbia\, V0E 1V0\, Canada
CATEGORIES:English Language
ORGANIZER;CN="Terri Everest":MAILTO:support@sissociety.ca
END:VEVENT
BEGIN:VEVENT
DTSTART;TZID=America/Toronto:20250403T100000
DTEND;TZID=America/Toronto:20250403T120000
DTSTAMP:20260424T014258
CREATED:20250401T175530Z
LAST-MODIFIED:20250401T175538Z
UID:10000429-1743674400-1743681600@sissociety.ca
SUMMARY:English session/McGuire Lake walk
DESCRIPTION:Join Terri and a volunteer at 10:00 am for a language lesson\, starting in the SISS classroom. We’ll read and answer questions about sports and leisure activities that SISS staff members & a volunteer did and do now. We’ll also discuss use of verbs “do\, “go\,” and “play” with sports\, and you’ll talk about your own favourite past or present sports. Finally\, we’ll walk and talk around McGuire Lake (weather permitting). Free snacks and beverages served. You don’t need to register – just drop in!
URL:https://sissociety.ca/event/english-session-mcguire-lake-walk/
LOCATION:SISS Office\, 101-371 Hudson Ave NE\, Salmon Arm\, BC\, V1E 4N3\, Canada
CATEGORIES:English Language
ORGANIZER;CN="Terri Everest":MAILTO:support@sissociety.ca
END:VEVENT
BEGIN:VEVENT
DTSTART;TZID=America/Toronto:20250327T100000
DTEND;TZID=America/Toronto:20250327T120000
DTSTAMP:20260424T014258
CREATED:20250223T005845Z
LAST-MODIFIED:20250223T010146Z
UID:10000423-1743069600-1743076800@sissociety.ca
SUMMARY:Sicamous meet-up
DESCRIPTION:Join Terri at Sicamous WorkBC (1133 Eagle Pass Way Unit 14B\, Sicamous). Staff will give us a tour and talk about how they can help. You can ask questions\, and snacks and beverages will be provided. Bring your friends\, whether newcomers or locals – this is a chance to learn more about services at WorkBC and SISS. For more info\, contact Terri: support@sissociety.ca or call/text/WhatsApp 236-586-7565.
URL:https://sissociety.ca/event/sicamous-meet-up/
LOCATION:Work BC Sicamous\, 1133 Eagle Pass Way Unit 14B\, Sicamous\, British Columbia\, V0E 0E8\, Canada
CATEGORIES:English Language
ORGANIZER;CN="Terri Everest":MAILTO:support@sissociety.ca
END:VEVENT
BEGIN:VEVENT
DTSTART;TZID=America/Toronto:20250320T100000
DTEND;TZID=America/Toronto:20250320T120000
DTSTAMP:20260424T014258
CREATED:20250223T004322Z
LAST-MODIFIED:20250223T004322Z
UID:10000421-1742464800-1742472000@sissociety.ca
SUMMARY:English session/Post office
DESCRIPTION:Join Terri and a volunteer for an English language lesson and more! Meet 10 a.m. at the SISS classroom (next to the main office). You’ll write a letter\, and then we’ll visit the post office (370 Hudson Ave NE) across the street to mail your letter and learn about services from friendly staff there. Free snacks and beverages. You don’t need to register – just drop in! For more info\, contact Terri: support@sissociety.ca or call/text/WhatsApp 236-586-7565.
URL:https://sissociety.ca/event/english-session-post-office/
LOCATION:SISS Office\, 101-371 Hudson Ave NE\, Salmon Arm\, BC\, V1E 4N3\, Canada
CATEGORIES:English Language
ORGANIZER;CN="Terri Everest":MAILTO:support@sissociety.ca
END:VEVENT
BEGIN:VEVENT
DTSTART;TZID=America/Toronto:20250315T100000
DTEND;TZID=America/Toronto:20250315T120000
DTSTAMP:20260424T014258
CREATED:20250223T001639Z
LAST-MODIFIED:20250223T001741Z
UID:10000417-1742032800-1742040000@sissociety.ca
SUMMARY:English session
DESCRIPTION:Join Terri and a volunteer for an English language lesson and more! Meet 10 a.m. at the SISS classroom (next to the main office). If the weather is nice\, we might take a short walk after enjoying free snacks and beverages. You don’t need to register – just drop in anytime! For more info\, contact Terri: support@sissociety.ca  or call/text/WhatsApp 236-586-7565.
URL:https://sissociety.ca/event/english-session-4/
LOCATION:SISS Office\, 101-371 Hudson Ave NE\, Salmon Arm\, BC\, V1E 4N3\, Canada
CATEGORIES:English Language
ORGANIZER;CN="Terri Everest":MAILTO:support@sissociety.ca
END:VEVENT
BEGIN:VEVENT
DTSTART;TZID=America/Toronto:20250308T023000
DTEND;TZID=America/Toronto:20250308T163000
DTSTAMP:20260424T014258
CREATED:20250222T234745Z
LAST-MODIFIED:20250222T235506Z
UID:10000415-1741401000-1741451400@sissociety.ca
SUMMARY:Enderby meet-up: laughter yoga/study session
DESCRIPTION:Come join Terri\, SISS clients\, and others for Laughter Yoga at Enderby Library (514 Cliffe Avenue) from 2:30-3:30 pm on Saturday\, March 8th. Iva Clark is a certified laughter yoga coach who knows a lot about the newcomer experience (and speaks five languages!). Come laugh your cares away and learn about the therapeutic value of laughing! Terri will also be at the library 3:30-4:30 if you want to chat more\, study\, or have any questions. For more information\, contact Terri: support@sissociety.ca or call/text/WhatsApp 236-586-7565.
URL:https://sissociety.ca/event/enderby-meet-up-laughter-yoga-study-session/
LOCATION:Enderby Library\, 226 514 Cliff Avenue\, Enderby\, British Columbia\, V0E 1V0\, Canada
CATEGORIES:English Language
ORGANIZER;CN="Terri Everest":MAILTO:support@sissociety.ca
END:VEVENT
BEGIN:VEVENT
DTSTART;TZID=America/Toronto:20250306T100000
DTEND;TZID=America/Toronto:20250306T120000
DTSTAMP:20260424T014258
CREATED:20250222T235839Z
LAST-MODIFIED:20250222T235839Z
UID:10000416-1741255200-1741262400@sissociety.ca
SUMMARY:English session/Fire department
DESCRIPTION:Join Terri and a volunteer for an English language lesson and more! Meet 10 a.m. at the SISS classroom (next to the main office). We’ll have a language lesson and then walk two blocks to the fire department (141 Ross St. NE). Staff will talk about fire safety in the home\, offer free smoke detector instalment\, and give us a tour. Come sit in a big red fire truck – photo opportunity! Free snacks and beverages. You don’t need to register – just drop in! For more info\, contact Terri: support@sissociety.ca  or call/text/WhatsApp 236-586-7565.
URL:https://sissociety.ca/event/english-session-fire-department/
LOCATION:SISS Office\, 101-371 Hudson Ave NE\, Salmon Arm\, BC\, V1E 4N3\, Canada
CATEGORIES:English Language
ORGANIZER;CN="Terri Everest":MAILTO:support@sissociety.ca
END:VEVENT
BEGIN:VEVENT
DTSTART;TZID=America/Toronto:20250301T100000
DTEND;TZID=America/Toronto:20250301T120000
DTSTAMP:20260424T014258
CREATED:20250222T233430Z
LAST-MODIFIED:20250222T235139Z
UID:10000414-1740823200-1740830400@sissociety.ca
SUMMARY:English Session/Art Gallery
DESCRIPTION:Join Terri and a volunteer for an English language lesson\, a 4-minute walk and then visit to the Arts Centre (new exhibit\, Overflow)\, and Pink Cherry too if there’s time. Meet 10 a.m. at the SISS classroom (next to the main office). Free snacks and beverages. You don’t need to register – just drop in! For more info\, contact Terri: support@sissociety.ca or call/text/WhatsApp 236-586-7565.
URL:https://sissociety.ca/event/english-session-art-gallery/
LOCATION:SISS Office\, 101-371 Hudson Ave NE\, Salmon Arm\, BC\, V1E 4N3\, Canada
CATEGORIES:English Language
ORGANIZER;CN="Terri Everest":MAILTO:support@sissociety.ca
END:VEVENT
BEGIN:VEVENT
DTSTART;TZID=America/Toronto:20250220T193000
DTEND;TZID=America/Toronto:20250220T213000
DTSTAMP:20260424T014258
CREATED:20250124T193409Z
LAST-MODIFIED:20250127T192840Z
UID:10000413-1740079800-1740087000@sissociety.ca
SUMMARY:Shuswap Theatre
DESCRIPTION:Come watch a play\, Halfway There\, at Shuswap Theatre (41 Hudson Street NW \, Salmon Arm). Please arrive by 7:15 pm at the latest (Inside theatre doors are closed at 7:30 pm sharp). There is free parking on the street and in a parking lot just below the theatre. All SISS clients are welcome\, but content is not suitable for children. Please pre-register with Terri: support@sissociety.ca (call/text/WhatsApp 236-586-7565).
URL:https://sissociety.ca/event/shuswap-theatre/
LOCATION:Shuswap Theatre\, 41 Hudson Ave NW\, Salmon Arm\, BC\, V1E 4M2\, Canada
CATEGORIES:English Language
ORGANIZER;CN="Terri Everest":MAILTO:support@sissociety.ca
END:VEVENT
BEGIN:VEVENT
DTSTART;TZID=America/Toronto:20250220T100000
DTEND;TZID=America/Toronto:20250220T123000
DTSTAMP:20260424T014258
CREATED:20250124T184758Z
LAST-MODIFIED:20250124T184758Z
UID:10000410-1740045600-1740054600@sissociety.ca
SUMMARY:English Session
DESCRIPTION:Join Terri and a volunteer for an English language lesson and more! Meet 10 a.m. at the SISS classroom (next to the main office). Free snacks and beverages provided. Drop in anytime! For more info\, contact Terri: support@sissociety.ca or call/text/WhatsApp 236-586-7565.
URL:https://sissociety.ca/event/english-session-3/
LOCATION:SISS Office\, 101-371 Hudson Ave NE\, Salmon Arm\, BC\, V1E 4N3\, Canada
CATEGORIES:English Language
ORGANIZER;CN="Terri Everest":MAILTO:support@sissociety.ca
END:VEVENT
BEGIN:VEVENT
DTSTART;TZID=America/Toronto:20250206T100000
DTEND;TZID=America/Toronto:20250206T120000
DTSTAMP:20260424T014258
CREATED:20250124T184535Z
LAST-MODIFIED:20250124T184648Z
UID:10000409-1738836000-1738843200@sissociety.ca
SUMMARY:English Session
DESCRIPTION:Join Terri and a volunteer for an English language lesson\, visit to the Arts Centre (new exhibit\, Overflow)\, and more! Meet 10 a.m. at the SISS classroom (next to the main office). Free snacks and beverages. Drop in anytime! For more info\, contact Terri: support@sissociety.ca or call/text/WhatsApp 236-586-7565.
URL:https://sissociety.ca/event/english-session-2/
LOCATION:SISS Office\, 101-371 Hudson Ave NE\, Salmon Arm\, BC\, V1E 4N3\, Canada
CATEGORIES:English Language
ORGANIZER;CN="Terri Everest":MAILTO:support@sissociety.ca
END:VEVENT
BEGIN:VEVENT
DTSTART;TZID=America/Toronto:20250201T100000
DTEND;TZID=America/Toronto:20250201T143000
DTSTAMP:20260424T014258
CREATED:20250124T183634Z
LAST-MODIFIED:20250124T184251Z
UID:10000408-1738404000-1738420200@sissociety.ca
SUMMARY:CELPIP Review
DESCRIPTION:Join Terri and a volunteer to review CELPIP for PR (all skills) or citizenship (listening and speaking). Meet 10 a.m. at the Innovation Centre boardroom (220 Shuswap St.\, N\, Salmon Arm). Schedule: 10 am – 12 noon\, overview\, listening\, and speaking; 12-12:30 lunch (free pizza and beverages); 12:30 – 2:30 pm\, reading and writing. Please pre-register with Terri: support@sissociety.ca or call/text/WhatsApp 236-586-7565.
URL:https://sissociety.ca/event/celpip-review/
LOCATION:Innovation Centre Boardroom\, 2220 Shuswap St.\, N\, Salmon Arm\, Salmon Arm\, Canada
CATEGORIES:English Language
ORGANIZER;CN="Terri Everest":MAILTO:support@sissociety.ca
END:VEVENT
BEGIN:VEVENT
DTSTART;TZID=America/Toronto:20250118T100000
DTEND;TZID=America/Toronto:20250118T120000
DTSTAMP:20260424T014258
CREATED:20241221T222457Z
LAST-MODIFIED:20241221T222457Z
UID:10000401-1737194400-1737201600@sissociety.ca
SUMMARY:English Class / Booknook tour/Anvil coffee
DESCRIPTION:Meet at the SISS classroom and learn about the many benefits of extensive reading! After that\, we’ll have a guided tour of the Booknook (half a block away); you can get 50% off any used books. Finally\, enjoy a chat and free beverage at Anvil coffee with Terri\, a volunteer\, and others. \nFor more info\, contact Terri support@sissociety.ca or 236-586-7565.
URL:https://sissociety.ca/event/english-class-booknook-tour-anvil-coffee/
LOCATION:SISS Office\, 101-371 Hudson Ave NE\, Salmon Arm\, BC\, V1E 4N3\, Canada
CATEGORIES:English Language
ORGANIZER;CN="Terri Everest":MAILTO:support@sissociety.ca
END:VEVENT
BEGIN:VEVENT
DTSTART;TZID=America/Toronto:20250109T100000
DTEND;TZID=America/Toronto:20250109T120000
DTSTAMP:20260424T014258
CREATED:20241221T221343Z
LAST-MODIFIED:20241221T221343Z
UID:10000400-1736416800-1736424000@sissociety.ca
SUMMARY:English Class/Walk & Talk
DESCRIPTION:Meet Terri and a volunteer in the SISS classroom. We’ll discuss how trying something new can boost your mood (and maybe start or revisit our New Year’s Resolutions!). Then join us for a walk and talk around nearby McGuire Lake. Free snacks and beverages provided. \nFor more info\, contact Terri support@sissociety.ca or 236-586-7565
URL:https://sissociety.ca/event/english-class-walk-talk/
LOCATION:SISS Office\, 101-371 Hudson Ave NE\, Salmon Arm\, BC\, V1E 4N3\, Canada
CATEGORIES:English Language
ORGANIZER;CN="Terri Everest":MAILTO:support@sissociety.ca
END:VEVENT
BEGIN:VEVENT
DTSTART;TZID=America/Toronto:20250104T100000
DTEND;TZID=America/Toronto:20250104T120000
DTSTAMP:20260424T014259
CREATED:20241221T214702Z
LAST-MODIFIED:20241221T214702Z
UID:10000399-1735984800-1735992000@sissociety.ca
SUMMARY:English Class / Laughter Yoga
DESCRIPTION:Terri will hold an English lesson in the SISS classroom\, and then Iva will introduce laughter yoga. Iva is a Canadian immigrant and certified laughter yoga instructor who speaks five languages! She’ll explain how laughter and exercise can reduce stress. You don’t need to register and yoga mats are optional (not needed). Drop in and laugh your cares away! Free snacks and beverages provided. \nFor more info\, contact Terri support@sissociety.ca or 236-586-7565
URL:https://sissociety.ca/event/english-class-laughter-yoga/
LOCATION:SISS Office\, 101-371 Hudson Ave NE\, Salmon Arm\, BC\, V1E 4N3\, Canada
CATEGORIES:English Language
ORGANIZER;CN="Terri Everest":MAILTO:support@sissociety.ca
END:VEVENT
BEGIN:VEVENT
DTSTART;TZID=America/Toronto:20241219T100000
DTEND;TZID=America/Toronto:20241219T120000
DTSTAMP:20260424T014259
CREATED:20241211T202533Z
LAST-MODIFIED:20241211T204407Z
UID:10000020-1734602400-1734609600@sissociety.ca
SUMMARY:English Class + CMHA tour/free vouchers
DESCRIPTION:Join Terri and a volunteer helper at the SISS classroom 10-11 a.m. for an English lesson. After that\, we’ll walk half a block to CMHA (433 Hudson Ave NE)\, the Canadian Mental Health Association\, for a guided tour + activity at their Learning Resource Centre downstairs. Then\, we’ll go upstairs to the thrift shop (which sells used clothing/kitchen items). Everybody gets a free voucher (free $) to buy things at the thrift shop that day. \n  \nRegistration is not required but you can contact Terri with questions about the event at:  support@sissociety.ca or text/WhatsApp 236-586-7565
URL:https://sissociety.ca/event/english-class-cmha-tour-free-vouchers/
CATEGORIES:English Language
ORGANIZER;CN="Terri Everest":MAILTO:support@sissociety.ca
END:VEVENT
END:VCALENDAR