BEGIN:VCALENDAR
VERSION:2.0
PRODID:-//Shuswap Immigrant Services Society - ECPv6.15.20//NONSGML v1.0//EN
CALSCALE:GREGORIAN
METHOD:PUBLISH
X-WR-CALNAME:Shuswap Immigrant Services Society
X-ORIGINAL-URL:https://sissociety.ca
X-WR-CALDESC:Events for Shuswap Immigrant Services Society
REFRESH-INTERVAL;VALUE=DURATION:PT1H
X-Robots-Tag:noindex
X-PUBLISHED-TTL:PT1H
BEGIN:VTIMEZONE
TZID:America/Toronto
BEGIN:DAYLIGHT
TZOFFSETFROM:-0500
TZOFFSETTO:-0400
TZNAME:EDT
DTSTART:20240310T070000
END:DAYLIGHT
BEGIN:STANDARD
TZOFFSETFROM:-0400
TZOFFSETTO:-0500
TZNAME:EST
DTSTART:20241103T060000
END:STANDARD
BEGIN:DAYLIGHT
TZOFFSETFROM:-0500
TZOFFSETTO:-0400
TZNAME:EDT
DTSTART:20250309T070000
END:DAYLIGHT
BEGIN:STANDARD
TZOFFSETFROM:-0400
TZOFFSETTO:-0500
TZNAME:EST
DTSTART:20251102T060000
END:STANDARD
BEGIN:DAYLIGHT
TZOFFSETFROM:-0500
TZOFFSETTO:-0400
TZNAME:EDT
DTSTART:20260308T070000
END:DAYLIGHT
BEGIN:STANDARD
TZOFFSETFROM:-0400
TZOFFSETTO:-0500
TZNAME:EST
DTSTART:20261101T060000
END:STANDARD
BEGIN:DAYLIGHT
TZOFFSETFROM:-0500
TZOFFSETTO:-0400
TZNAME:EDT
DTSTART:20270314T070000
END:DAYLIGHT
BEGIN:STANDARD
TZOFFSETFROM:-0400
TZOFFSETTO:-0500
TZNAME:EST
DTSTART:20271107T060000
END:STANDARD
END:VTIMEZONE
BEGIN:VEVENT
DTSTART;TZID=America/Toronto:20260120T113000
DTEND;TZID=America/Toronto:20260120T143000
DTSTAMP:20260421T105630
CREATED:20260113T191038Z
LAST-MODIFIED:20260113T191038Z
UID:10000579-1768908600-1768919400@sissociety.ca
SUMMARY:Enderby Meet-ups (Enderbeans Cafe & Library Drop-in)
DESCRIPTION:11:30 am – 1:00 pm. Enderbeans Cafe. Join Terri and others and connect over a complimentary beverage. \n1:00 – 2:30 pm. Enderby Library Drop-in. Get help with study or other matters. Terri will be waiting to see you!
URL:https://sissociety.ca/event/enderby-meet-ups-enderbeans-cafe-library-drop-in/
LOCATION:Enderbeans Cafe\, 908 Belvedere St\, Enderby\, British Columbia\, V0E 1V0\, Canada
END:VEVENT
BEGIN:VEVENT
DTSTART;TZID=America/Toronto:20251203T113000
DTEND;TZID=America/Toronto:20251203T140000
DTSTAMP:20260421T105630
CREATED:20251121T231044Z
LAST-MODIFIED:20251121T231044Z
UID:10000547-1764761400-1764770400@sissociety.ca
SUMMARY:Enderby Meet-ups (Enderbeans & Library Drop-in)
DESCRIPTION:11:30 am – 1:00 pm. Join Terri and volunteer Laura at Enderbeans Cafe for a chat and to say goodbye to one of our “regulars\,” who is moving. Complimentary snacks and beverages. \n1:00-2:00 pm. Drop in at Enderby library. Come say hi and/or bring your questions. Terri will be happy to help!
URL:https://sissociety.ca/event/enderby-meet-ups-enderbeans-library-drop-in/
LOCATION:Enderbeans Cafe\, 908 Belvedere St\, Enderby\, British Columbia\, V0E 1V0\, Canada
CATEGORIES:English Language
ORGANIZER;CN="Terri Everest":MAILTO:support@sissociety.ca
END:VEVENT
BEGIN:VEVENT
DTSTART;TZID=America/Toronto:20251028T113000
DTEND;TZID=America/Toronto:20251028T143000
DTSTAMP:20260421T105630
CREATED:20251029T192714Z
LAST-MODIFIED:20251029T192714Z
UID:10000531-1761651000-1761661800@sissociety.ca
SUMMARY:Enderby Meet-up: Enderbeans Cafe & Library Drop-in
DESCRIPTION:Join Terri and volunteer helper Laura 11:30-1 at Enderbeans Cafe for a chat over a complimentary beverage. You can also drop in to the library 1-2:30 to chat with Terri and get help on matters.
URL:https://sissociety.ca/event/enderby-meet-up-enderbeans-cafe-library-drop-in/
LOCATION:Enderbeans Cafe\, 908 Belvedere St\, Enderby\, British Columbia\, V0E 1V0\, Canada
CATEGORIES:English Language
ORGANIZER;CN="Terri Everest":MAILTO:support@sissociety.ca
END:VEVENT
BEGIN:VEVENT
DTSTART;TZID=America/Toronto:20251022T113000
DTEND;TZID=America/Toronto:20251022T143000
DTSTAMP:20260421T105630
CREATED:20251022T193812Z
LAST-MODIFIED:20251022T194037Z
UID:10000523-1761132600-1761143400@sissociety.ca
SUMMARY:Enderby meet-ups (Enderbeans Cafe & Library)
DESCRIPTION:11:30 am – 1:00 pm at Enderbeans Cafe (908 B Belvedere St.\, Enderby). Join Terri\, our volunteer Laura\, & others to chat and network over complimentary snacks and beverages. Children are welcome (Cookies for kids if parents okay it!). \n1:00 – 2:30 pm at Enderby Library (514 Cliff Avenue\, Enderby). Come for a chat with Terri – get help with library card registration\, tests (English\, driving\, citizenship)\, and other matters. Please email me by Friday\, October 24th if you’d like me to prepare any material just for you.
URL:https://sissociety.ca/event/enderby-meet-ups/
LOCATION:Enderbeans Cafe\, 908 Belvedere St\, Enderby\, British Columbia\, V0E 1V0\, Canada
CATEGORIES:English Language
ORGANIZER;CN="Terri Everest":MAILTO:support@sissociety.ca
END:VEVENT
BEGIN:VEVENT
DTSTART;TZID=America/Toronto:20250923T113000
DTEND;TZID=America/Toronto:20250923T150000
DTSTAMP:20260421T105630
CREATED:20250916T174031Z
LAST-MODIFIED:20250916T191946Z
UID:10000505-1758627000-1758639600@sissociety.ca
SUMMARY:Enderby Meet-up: Enderbeans & Library
DESCRIPTION:Join Terri & others from 11:30 am -1:00 pm at Enderbeans Cafe (908 B Belvedere St.) to chat and network over complimentary snacks and beverages. You can also drop in to Enderby Library (514 Cliff Avenue) anytime from 1-3:00 pm for a chat with Terri – get help with library card registration\, tests (English\, driving\, citizenship)\, and other matters. See you there!
URL:https://sissociety.ca/event/enderby-meet-up-enderbeans-library-2/
LOCATION:Enderbeans Cafe\, 908 Belvedere St\, Enderby\, British Columbia\, V0E 1V0\, Canada
ORGANIZER;CN="Terri Everest":MAILTO:support@sissociety.ca
END:VEVENT
BEGIN:VEVENT
DTSTART;TZID=America/Toronto:20250408T113000
DTEND;TZID=America/Toronto:20250408T150000
DTSTAMP:20260421T105630
CREATED:20250401T181855Z
LAST-MODIFIED:20250401T181909Z
UID:10000432-1744111800-1744124400@sissociety.ca
SUMMARY:Enderby meet-up/Enderbeans & library
DESCRIPTION:Come join Terri and others at Enderbeans Cafe from 11:30 am – 1 pm for a chat over complimentary coffee or tea (908 Belvidere St.\, Enderby). Terri will also be available from 1-3 pm for study and other questions at Enderby library (514 Cliff Avenue\, Enderby).
URL:https://sissociety.ca/event/enderby-meet-up-enderbeans-library/
LOCATION:Enderbeans Cafe\, 908 Belvedere St\, Enderby\, British Columbia\, V0E 1V0\, Canada
CATEGORIES:English Language
ORGANIZER;CN="Terri Everest":MAILTO:support@sissociety.ca
END:VEVENT
END:VCALENDAR