BEGIN:VCALENDAR
VERSION:2.0
PRODID:-//Shuswap Immigrant Services Society - ECPv6.15.20//NONSGML v1.0//EN
CALSCALE:GREGORIAN
METHOD:PUBLISH
X-WR-CALNAME:Shuswap Immigrant Services Society
X-ORIGINAL-URL:https://sissociety.ca
X-WR-CALDESC:Events for Shuswap Immigrant Services Society
REFRESH-INTERVAL;VALUE=DURATION:PT1H
X-Robots-Tag:noindex
X-PUBLISHED-TTL:PT1H
BEGIN:VTIMEZONE
TZID:America/Toronto
BEGIN:DAYLIGHT
TZOFFSETFROM:-0500
TZOFFSETTO:-0400
TZNAME:EDT
DTSTART:20240310T070000
END:DAYLIGHT
BEGIN:STANDARD
TZOFFSETFROM:-0400
TZOFFSETTO:-0500
TZNAME:EST
DTSTART:20241103T060000
END:STANDARD
BEGIN:DAYLIGHT
TZOFFSETFROM:-0500
TZOFFSETTO:-0400
TZNAME:EDT
DTSTART:20250309T070000
END:DAYLIGHT
BEGIN:STANDARD
TZOFFSETFROM:-0400
TZOFFSETTO:-0500
TZNAME:EST
DTSTART:20251102T060000
END:STANDARD
BEGIN:DAYLIGHT
TZOFFSETFROM:-0500
TZOFFSETTO:-0400
TZNAME:EDT
DTSTART:20260308T070000
END:DAYLIGHT
BEGIN:STANDARD
TZOFFSETFROM:-0400
TZOFFSETTO:-0500
TZNAME:EST
DTSTART:20261101T060000
END:STANDARD
END:VTIMEZONE
BEGIN:VEVENT
DTSTART;TZID=America/Toronto:20251210T100000
DTEND;TZID=America/Toronto:20251210T130000
DTSTAMP:20260419T121340
CREATED:20251121T232246Z
LAST-MODIFIED:20251204T175801Z
UID:10000549-1765360800-1765371600@sissociety.ca
SUMMARY:Blind Bay Meet-ups (Spinnaker Cafe\, Walk\, & Library)
DESCRIPTION:10:00-11:00 a.m. Join Terri and clients for complimentary snacks and a beverage at Spinnaker Cafe. Come meet friends and make new ones! \n11:00-11:45 a.m. Put on your walking shoes and bring your umbrella! We’ll take a short walk\, starting at Spinnaker Cafe and finishing at the library (next to the cafe). If the weather is too bad\, we can meet inside the library. \n12 noon – 1:00 pm. Drop in to South Shuswap Library. Come say hello to Terri and/or bring your questions.
URL:https://sissociety.ca/event/blind-bay-meet-ups-spinnaker-cafe-walk-library/
LOCATION:Spinnaker Cafe\, 2417 Golf Course Dr #11\, Blind Bay\, BC\, V0E 1H1\, Canada
CATEGORIES:English Language
ORGANIZER;CN="Terri Everest":MAILTO:support@sissociety.ca
END:VEVENT
END:VCALENDAR