BEGIN:VCALENDAR
VERSION:2.0
PRODID:-//Shuswap Immigrant Services Society - ECPv6.15.20//NONSGML v1.0//EN
CALSCALE:GREGORIAN
METHOD:PUBLISH
X-WR-CALNAME:Shuswap Immigrant Services Society
X-ORIGINAL-URL:https://sissociety.ca
X-WR-CALDESC:Events for Shuswap Immigrant Services Society
REFRESH-INTERVAL;VALUE=DURATION:PT1H
X-Robots-Tag:noindex
X-PUBLISHED-TTL:PT1H
BEGIN:VTIMEZONE
TZID:America/Toronto
BEGIN:DAYLIGHT
TZOFFSETFROM:-0500
TZOFFSETTO:-0400
TZNAME:EDT
DTSTART:20240310T070000
END:DAYLIGHT
BEGIN:STANDARD
TZOFFSETFROM:-0400
TZOFFSETTO:-0500
TZNAME:EST
DTSTART:20241103T060000
END:STANDARD
BEGIN:DAYLIGHT
TZOFFSETFROM:-0500
TZOFFSETTO:-0400
TZNAME:EDT
DTSTART:20250309T070000
END:DAYLIGHT
BEGIN:STANDARD
TZOFFSETFROM:-0400
TZOFFSETTO:-0500
TZNAME:EST
DTSTART:20251102T060000
END:STANDARD
BEGIN:DAYLIGHT
TZOFFSETFROM:-0500
TZOFFSETTO:-0400
TZNAME:EDT
DTSTART:20260308T070000
END:DAYLIGHT
BEGIN:STANDARD
TZOFFSETFROM:-0400
TZOFFSETTO:-0500
TZNAME:EST
DTSTART:20261101T060000
END:STANDARD
END:VTIMEZONE
BEGIN:VEVENT
DTSTART;TZID=America/Toronto:20250119T110000
DTEND;TZID=America/Toronto:20250119T160000
DTSTAMP:20260424T073008
CREATED:20241221T000044Z
LAST-MODIFIED:20241221T000123Z
UID:10000398-1737284400-1737302400@sissociety.ca
SUMMARY:Skiing/Snowshoeing
DESCRIPTION: Get Ready for an Adventure! We’re excited to invite our eligible clients to an all-inclusive Skiing & Snowshoeing Event! Choose between Snowshoeing or Cross Country Skiing\, and join us for a day of winter fun at Larch Hills Ski Area! When:19.01.2025\,Saturday\,11:00am-4:00am Where: Larch Hills Ski Area What’s Included: FREE transportation & ski or snow shoe rentals What to Bring: A bagged lunch No experience required! Limited spots available — don’t miss out!
URL:https://sissociety.ca/event/skiing-snowshoeing/
LOCATION:The Larch Hills Nordic Society\, 398\,Larch Hills Rd\, Salmon Arm\, British Columbia\, Canada
CATEGORIES:Community Connections
ORGANIZER;CN="Arpita":MAILTO:events@sissociety.ca
END:VEVENT
END:VCALENDAR